BEGIN:VCALENDAR
VERSION:2.0
PRODID:-//wp-events-plugin.com//7.2.3.1//EN
TZID:America/New_York
X-WR-TIMEZONE:America/New_York
BEGIN:VEVENT
UID:5592@goriverwalk.com
DTSTART;TZID=America/New_York:20181106T180000
DTEND;TZID=America/New_York:20181106T235900
DTSTAMP:20180809T140107Z
URL:https://www.goriverwalk.com/greater-fort-lauderdale-events/emmure-stic
 k-to-your-guns
SUMMARY:Emmure & Stick To Your Guns
DESCRIPTION:With Wage War &amp\; Sanction
ATTACH;FMTTYPE=image/jpeg:https://www.goriverwalk.com/wp-content/uploads/2
 018/08/270px-13-04-27_Emmure_02.jpg
CATEGORIES:Music
LOCATION:Revolution Live\, 100 SW 3rd Avenue\, Fort Lauderdale\, FL\, 33312
 \, United States
GEO:26.1213372;-80.14640580000003
X-APPLE-STRUCTURED-LOCATION;VALUE=URI;X-ADDRESS=100 SW 3rd Avenue\, Fort La
 uderdale\, FL\, 33312\, United States;X-APPLE-RADIUS=100;X-TITLE=Revolutio
 n Live:geo:26.1213372,-80.14640580000003
END:VEVENT
BEGIN:VTIMEZONE
TZID:America/New_York
X-LIC-LOCATION:America/New_York
BEGIN:STANDARD
DTSTART:20181104T010000
TZOFFSETFROM:-0400
TZOFFSETTO:-0500
TZNAME:EST
END:STANDARD
END:VTIMEZONE
END:VCALENDAR