BEGIN:VCALENDAR
VERSION:2.0
PRODID:-//wp-events-plugin.com//7.2.3.1//EN
TZID:America/New_York
X-WR-TIMEZONE:America/New_York
BEGIN:VEVENT
UID:2358@goriverwalk.com
DTSTART;TZID=America/New_York:20160711T180000
DTEND;TZID=America/New_York:20160711T210000
DTSTAMP:20160524T150050Z
URL:https://www.goriverwalk.com/greater-fort-lauderdale-events/emerge-brow
 ards-annual-general-assembly
SUMMARY:Emerge Broward's Annual General Assembly
DESCRIPTION:Highlighting Emerge Broward's membership and activities over th
 e past year and give members an opportunity to connect with community lea
 ders.
ATTACH;FMTTYPE=image/jpeg:https://www.goriverwalk.com/wp-content/uploads/2
 015/12/Default-calendar-1.jpg
CATEGORIES:Business,Cocktail
LOCATION:ArtServe\, 1350 E Sunrise Boulevard\, Fort Lauderdale\, Florida\, 
 33304\, United States
GEO:26.137135;-80.130157
X-APPLE-STRUCTURED-LOCATION;VALUE=URI;X-ADDRESS=1350 E Sunrise Boulevard\, 
 Fort Lauderdale\, Florida\, 33304\, United States;X-APPLE-RADIUS=100;X-TIT
 LE=ArtServe:geo:26.137135,-80.130157
END:VEVENT
BEGIN:VTIMEZONE
TZID:America/New_York
X-LIC-LOCATION:America/New_York
BEGIN:DAYLIGHT
DTSTART:20160313T030000
TZOFFSETFROM:-0500
TZOFFSETTO:-0400
TZNAME:EDT
END:DAYLIGHT
END:VTIMEZONE
END:VCALENDAR