BEGIN:VCALENDAR
VERSION:2.0
PRODID:-//wp-events-plugin.com//7.2.3.1//EN
TZID:America/New_York
X-WR-TIMEZONE:America/New_York
BEGIN:VEVENT
UID:22815@goriverwalk.com
DTSTART;TZID=America/New_York:20260423T100000
DTEND;TZID=America/New_York:20260424T100000
DTSTAMP:20260325T155946Z
URL:https://www.goriverwalk.com/greater-fort-lauderdale-events/elephant-pi
 ggies-we-are-in-a-play-3
SUMMARY:Elephant & Piggie's "We are in a Play"
DESCRIPTION:Based on the beloved Elephant &amp\; Piggie books by Mo Willems
 \, this fun-filled musical follows the lovable duo\, Elephant Gerald and P
 iggie\, as they embark on a hilarious adventure on stage! An elephant name
 d Gerald and a pig named Piggie are best\, best\, “bestus” (a word Ger
 ald and Piggie made up that means “very best”) friends. But Gerald wor
 ries that something could go wrong that would end their friendship. Piggie
  is not worried at all. She’s even happier and more excited than usual. 
 That’s because she and Gerald are invited to a party hosted by the Squir
 relles\, three singing squirrels who love to have a good time. And so begi
 ns a day when anything is possible. Gerald and Piggie will solve problems 
 together\, sing and dance to music played by a band on stage\, make each o
 ther laugh\, share their favorite things\, get mad and sad with each other
 \, and even do a little goofing around with you\, the audience. Wait until
  you see what they have in mind!\n\nRecommended grade levels: Pre-K-1st\n\
 nStudy guides for all of the Smart Stage Matinees are available for downl
 oad.\n\nLap Tickets are available for purchase for children 12 months and 
 under\, only available at the Broward Center's AutoNation Box Office. Ever
 yone in the theater must have a ticket.\n\nFor more information click here
 .
ATTACH;FMTTYPE=image/jpeg:https://www.goriverwalk.com/wp-content/uploads/2
 026/03/4.22.26-Elephant.png
CATEGORIES:Children,Comedy,Theater
LOCATION:Broward Center for the Performing Arts\, 201 SW 5th Avenue\, Fort 
 Lauderdale\, FL\, 33312\, United States
GEO:26.1198743;-80.14926960000003
X-APPLE-STRUCTURED-LOCATION;VALUE=URI;X-ADDRESS=201 SW 5th Avenue\, Fort La
 uderdale\, FL\, 33312\, United States;X-APPLE-RADIUS=100;X-TITLE=Broward C
 enter for the Performing Arts:geo:26.1198743,-80.14926960000003
END:VEVENT
BEGIN:VTIMEZONE
TZID:America/New_York
X-LIC-LOCATION:America/New_York
BEGIN:DAYLIGHT
DTSTART:20260308T030000
TZOFFSETFROM:-0500
TZOFFSETTO:-0400
TZNAME:EDT
END:DAYLIGHT
END:VTIMEZONE
END:VCALENDAR