BEGIN:VCALENDAR
VERSION:2.0
PRODID:-//wp-events-plugin.com//7.2.3.1//EN
TZID:America/New_York
X-WR-TIMEZONE:America/New_York
BEGIN:VEVENT
UID:2357@goriverwalk.com
DTSTART;TZID=America/New_York:20160622T000000
DTEND;TZID=America/New_York:20160622T000000
DTSTAMP:20160524T145434Z
URL:https://www.goriverwalk.com/greater-fort-lauderdale-events/eb-identify
 -june-meet-greet
SUMMARY:EB: Identify - June Meet & Greet
DESCRIPTION:Emerge Broward's meet and greet.
ATTACH;FMTTYPE=image/jpeg:https://www.goriverwalk.com/wp-content/uploads/2
 015/12/Default-calendar-1.jpg
CATEGORIES:Business
LOCATION:Shooters Waterfront\, 3033 NE 32nd Avenue\, Fort Lauderdale\, FL\,
  33308\, United States
GEO:26.1661229;-80.10359790000001
X-APPLE-STRUCTURED-LOCATION;VALUE=URI;X-ADDRESS=3033 NE 32nd Avenue\, Fort 
 Lauderdale\, FL\, 33308\, United States;X-APPLE-RADIUS=100;X-TITLE=Shooter
 s Waterfront:geo:26.1661229,-80.10359790000001
END:VEVENT
BEGIN:VTIMEZONE
TZID:America/New_York
X-LIC-LOCATION:America/New_York
BEGIN:DAYLIGHT
DTSTART:20160313T030000
TZOFFSETFROM:-0500
TZOFFSETTO:-0400
TZNAME:EDT
END:DAYLIGHT
END:VTIMEZONE
END:VCALENDAR