BEGIN:VCALENDAR
VERSION:2.0
PRODID:-//wp-events-plugin.com//7.2.3.1//EN
TZID:America/New_York
X-WR-TIMEZONE:America/New_York
BEGIN:VEVENT
UID:3207@goriverwalk.com
DTSTART;TZID=America/New_York:20170415T120000
DTEND;TZID=America/New_York:20170415T140000
DTSTAMP:20170315T151938Z
URL:https://www.goriverwalk.com/greater-fort-lauderdale-events/easter-egg-
 hunt-eggstravaganza
SUMMARY:Easter Egg Hunt Eggstravaganza
DESCRIPTION:First Presbyterian Church of Fort Lauderdale’s annual Easter 
 Egg Hunt.
ATTACH;FMTTYPE=image/jpeg:https://www.goriverwalk.com/wp-content/uploads/2
 015/12/Default-calendar.jpg
CATEGORIES:Holiday
LOCATION:Colee Hammock Park\, 1500 Brickell Drive\, Fort Lauderdale\, FL\, 
 33301\, United States
GEO:26.1173052;-80.12873820000004
X-APPLE-STRUCTURED-LOCATION;VALUE=URI;X-ADDRESS=1500 Brickell Drive\, Fort 
 Lauderdale\, FL\, 33301\, United States;X-APPLE-RADIUS=100;X-TITLE=Colee H
 ammock Park:geo:26.1173052,-80.12873820000004
END:VEVENT
BEGIN:VTIMEZONE
TZID:America/New_York
X-LIC-LOCATION:America/New_York
BEGIN:DAYLIGHT
DTSTART:20170312T030000
TZOFFSETFROM:-0500
TZOFFSETTO:-0400
TZNAME:EDT
END:DAYLIGHT
END:VTIMEZONE
END:VCALENDAR