BEGIN:VCALENDAR
VERSION:2.0
PRODID:-//wp-events-plugin.com//7.2.3.1//EN
TZID:America/New_York
X-WR-TIMEZONE:America/New_York
BEGIN:VEVENT
UID:1433@goriverwalk.com
DTSTART;TZID=America/New_York:20160110T181500
DTEND;TZID=America/New_York:20160110T201500
DTSTAMP:20160105T203337Z
URL:https://www.goriverwalk.com/greater-fort-lauderdale-events/east-side-p
 review-service
SUMMARY:East Side: Preview Service
DESCRIPTION:Church by the Glades will be hosting it’s next East Side Camp
 us preview on January 10\, 2016 at 6:00pm at the historic Parker Playhouse
 ! Come be part of something big to start off your 2016!\n\nFor more inform
 ation please visit: http://cbglades.com/events/eastside/.
ATTACH;FMTTYPE=image/jpeg:https://www.goriverwalk.com/wp-content/uploads/2
 015/12/Default-calendar-1.jpg
CATEGORIES:Education
LOCATION:Parker Playhouse\, 707 NE 8th Street\, Fort Lauderdale\, FL\, 3330
 4\, United States
GEO:26.134246;-80.13617199999999
X-APPLE-STRUCTURED-LOCATION;VALUE=URI;X-ADDRESS=707 NE 8th Street\, Fort La
 uderdale\, FL\, 33304\, United States;X-APPLE-RADIUS=100;X-TITLE=Parker Pl
 ayhouse:geo:26.134246,-80.13617199999999
END:VEVENT
BEGIN:VTIMEZONE
TZID:America/New_York
X-LIC-LOCATION:America/New_York
BEGIN:STANDARD
DTSTART:20151101T010000
TZOFFSETFROM:-0400
TZOFFSETTO:-0500
TZNAME:EST
END:STANDARD
END:VTIMEZONE
END:VCALENDAR