BEGIN:VCALENDAR
VERSION:2.0
PRODID:-//wp-events-plugin.com//7.2.3.1//EN
TZID:America/New_York
X-WR-TIMEZONE:America/New_York
BEGIN:VEVENT
UID:16819@goriverwalk.com
DTSTART;TZID=America/New_York:20230517T170000
DTEND;TZID=America/New_York:20230517T180000
DTSTAMP:20230414T151017Z
URL:https://www.goriverwalk.com/greater-fort-lauderdale-events/drumming-an
 d-wellness-for-teens
SUMMARY:Drumming and Wellness for Teens 
DESCRIPTION:With Susan Nyamora
ATTACH;FMTTYPE=image/jpeg:https://www.goriverwalk.com/wp-content/uploads/2
 021/02/broward-county-public-library-logo-sq.jpg
CATEGORIES:Community
LOCATION:Southwest Regional Library\, 16835 Sheridan Street\, Pembroke Pine
 s\, FL\, 33331\, United States
GEO:26.0310606;-80.37308539999998
X-APPLE-STRUCTURED-LOCATION;VALUE=URI;X-ADDRESS=16835 Sheridan Street\, Pem
 broke Pines\, FL\, 33331\, United States;X-APPLE-RADIUS=100;X-TITLE=Southw
 est Regional Library:geo:26.0310606,-80.37308539999998
END:VEVENT
BEGIN:VTIMEZONE
TZID:America/New_York
X-LIC-LOCATION:America/New_York
BEGIN:DAYLIGHT
DTSTART:20230312T030000
TZOFFSETFROM:-0500
TZOFFSETTO:-0400
TZNAME:EDT
END:DAYLIGHT
END:VTIMEZONE
END:VCALENDAR