BEGIN:VCALENDAR
VERSION:2.0
PRODID:-//wp-events-plugin.com//7.2.3.1//EN
TZID:America/New_York
X-WR-TIMEZONE:America/New_York
BEGIN:VEVENT
UID:18395@goriverwalk.com
DTSTART;TZID=America/New_York:20240218T190000
DTEND;TZID=America/New_York:20240218T190000
DTSTAMP:20240102T201506Z
URL:https://www.goriverwalk.com/greater-fort-lauderdale-events/drum-tao-30
 th-anniversary%e3%80%8cthe-tao-%e5%a4%a2%e5%b9%bb%e9%9f%bf%e3%80%8d
SUMMARY:Drum TAO 30th Anniversary「THE TAO 夢幻響」
DESCRIPTION:Highly physical\, large-scale drumming with contemporary costum
 es\, precise choreography
ATTACH;FMTTYPE=image/jpeg:https://www.goriverwalk.com/wp-content/uploads/2
 023/12/2-18-24-DrumTao.jpg
CATEGORIES:Cultural,Music
LOCATION:Lillian S. Wells Hall at The Parker\, 707 NE 8th Street\, Fort Lau
 derdale\, Florida\, 33304\, United States
X-APPLE-STRUCTURED-LOCATION;VALUE=URI;X-ADDRESS=707 NE 8th Street\, Fort La
 uderdale\, Florida\, 33304\, United States;X-APPLE-RADIUS=100;X-TITLE=Lill
 ian S. Wells Hall at The Parker:geo:0,0
END:VEVENT
BEGIN:VTIMEZONE
TZID:America/New_York
X-LIC-LOCATION:America/New_York
BEGIN:STANDARD
DTSTART:20231105T010000
TZOFFSETFROM:-0400
TZOFFSETTO:-0500
TZNAME:EST
END:STANDARD
END:VTIMEZONE
END:VCALENDAR