BEGIN:VCALENDAR
VERSION:2.0
PRODID:-//wp-events-plugin.com//7.2.3.1//EN
TZID:America/New_York
X-WR-TIMEZONE:America/New_York
BEGIN:VEVENT
UID:5938@goriverwalk.com
DTSTART;TZID=America/New_York:20181020T200000
DTEND;TZID=America/New_York:20181020T233000
DTSTAMP:20181005T204335Z
URL:https://www.goriverwalk.com/greater-fort-lauderdale-events/dru-hill-wi
 th-sisqo
SUMMARY:Dru Hill with Sisqo
DESCRIPTION:90's American R&amp\;B group
ATTACH;FMTTYPE=image/jpeg:https://www.goriverwalk.com/wp-content/uploads/2
 017/11/Default-calendar.jpg
CATEGORIES:Dance,Music
LOCATION:Stage 954 - The Casino @ Dania Beach\, 301 E Dania Beach Blvd\, Da
 nia Beach\, Florida\, 33004\, United States
GEO:26.0533842;-80.13706769999999
X-APPLE-STRUCTURED-LOCATION;VALUE=URI;X-ADDRESS=301 E Dania Beach Blvd\, Da
 nia Beach\, Florida\, 33004\, United States;X-APPLE-RADIUS=100;X-TITLE=Sta
 ge 954 - The Casino @ Dania Beach:geo:26.0533842,-80.13706769999999
END:VEVENT
BEGIN:VTIMEZONE
TZID:America/New_York
X-LIC-LOCATION:America/New_York
BEGIN:DAYLIGHT
DTSTART:20180311T030000
TZOFFSETFROM:-0500
TZOFFSETTO:-0400
TZNAME:EDT
END:DAYLIGHT
END:VTIMEZONE
END:VCALENDAR