BEGIN:VCALENDAR
VERSION:2.0
PRODID:-//wp-events-plugin.com//7.2.3.1//EN
TZID:America/New_York
X-WR-TIMEZONE:America/New_York
BEGIN:VEVENT
UID:21553@goriverwalk.com
DTSTART;TZID=America/New_York:20251108T190000
DTEND;TZID=America/New_York:20251108T210000
DTSTAMP:20251104T165607Z
URL:https://www.goriverwalk.com/greater-fort-lauderdale-events/drone-show-
 extravaganza-2025
SUMMARY:Drone Show Extravaganza 2025
DESCRIPTION:All eyes will be over the ocean
ATTACH;FMTTYPE=image/jpeg:https://www.goriverwalk.com/wp-content/uploads/2
 025/10/1-min-13.png
CATEGORIES:Free
LOCATION:Fisher Family Pier\, 222 N Pompano Beach Blvd\, Pompano Beach\, FL
 \, 33062\, United States
X-APPLE-STRUCTURED-LOCATION;VALUE=URI;X-ADDRESS=222 N Pompano Beach Blvd\, 
 Pompano Beach\, FL\, 33062\, United States;X-APPLE-RADIUS=100;X-TITLE=Fish
 er Family Pier:geo:0,0
END:VEVENT
BEGIN:VTIMEZONE
TZID:America/New_York
X-LIC-LOCATION:America/New_York
BEGIN:STANDARD
DTSTART:20251102T010000
TZOFFSETFROM:-0400
TZOFFSETTO:-0500
TZNAME:EST
END:STANDARD
END:VTIMEZONE
END:VCALENDAR