BEGIN:VCALENDAR
VERSION:2.0
PRODID:-//wp-events-plugin.com//7.2.3.1//EN
TZID:America/New_York
X-WR-TIMEZONE:America/New_York
BEGIN:VEVENT
UID:2517@goriverwalk.com
DTSTART;TZID=America/New_York:20160923T090000
DTEND;TZID=America/New_York:20160923T163000
DTSTAMP:20160825T143049Z
URL:https://www.goriverwalk.com/greater-fort-lauderdale-events/downtown-sy
 mposium-2016
SUMMARY:Downtown Symposium 2016
DESCRIPTION:The DDA's inaugural symposium to address the key elements of a 
 world class downtown.
ATTACH;FMTTYPE=image/jpeg:https://www.goriverwalk.com/wp-content/uploads/2
 015/12/Default-calendar.jpg
CATEGORIES:Business,Community
LOCATION:Broward Center for the Performing Arts\, 201 SW 5th Avenue\, Fort 
 Lauderdale\, Florida\, 33312\, United States
GEO:26.119873;-80.149269
X-APPLE-STRUCTURED-LOCATION;VALUE=URI;X-ADDRESS=201 SW 5th Avenue\, Fort La
 uderdale\, Florida\, 33312\, United States;X-APPLE-RADIUS=100;X-TITLE=Brow
 ard Center for the Performing Arts:geo:26.119873,-80.149269
END:VEVENT
BEGIN:VTIMEZONE
TZID:America/New_York
X-LIC-LOCATION:America/New_York
BEGIN:DAYLIGHT
DTSTART:20160313T030000
TZOFFSETFROM:-0500
TZOFFSETTO:-0400
TZNAME:EDT
END:DAYLIGHT
END:VTIMEZONE
END:VCALENDAR