BEGIN:VCALENDAR
VERSION:2.0
PRODID:-//wp-events-plugin.com//7.2.3.1//EN
TZID:America/New_York
X-WR-TIMEZONE:America/New_York
BEGIN:VEVENT
UID:4092@goriverwalk.com
DTSTART;TZID=America/New_York:20180328T190000
DTEND;TZID=America/New_York:20180401T190000
DTSTAMP:20180122T145335Z
URL:https://www.goriverwalk.com/greater-fort-lauderdale-events/disney-on-i
 ce-presents-reach-for-the-stars
SUMMARY:Disney On Ice presents Reach For The Stars
DESCRIPTION:Mickey Mouse\, Minnie Mouse\, Donald Duck and Goofy set the sta
 ge for a star-studded talent extravaganza.
ATTACH;FMTTYPE=image/jpeg:https://www.goriverwalk.com/wp-content/uploads/2
 018/01/disney-on-ice.jpg
CATEGORIES:Dance,Music
LOCATION:BB&T Center \, 1 Panther Parkway \, Sunrise\, FL\, 33323\, United 
 States
GEO:26.158468;-80.325554
X-APPLE-STRUCTURED-LOCATION;VALUE=URI;X-ADDRESS=1 Panther Parkway \, Sunris
 e\, FL\, 33323\, United States;X-APPLE-RADIUS=100;X-TITLE=BB&T Center :geo
 :26.158468,-80.325554
END:VEVENT
BEGIN:VTIMEZONE
TZID:America/New_York
X-LIC-LOCATION:America/New_York
BEGIN:DAYLIGHT
DTSTART:20180311T030000
TZOFFSETFROM:-0500
TZOFFSETTO:-0400
TZNAME:EDT
END:DAYLIGHT
END:VTIMEZONE
END:VCALENDAR