BEGIN:VCALENDAR
VERSION:2.0
PRODID:-//wp-events-plugin.com//7.2.3.1//EN
TZID:America/New_York
X-WR-TIMEZONE:America/New_York
BEGIN:VEVENT
UID:6531@goriverwalk.com
DTSTART;TZID=America/New_York:20190124T180000
DTEND;TZID=America/New_York:20190124T210000
DTSTAMP:20181207T151451Z
URL:https://www.goriverwalk.com/greater-fort-lauderdale-events/discovery-a
 fter-dark-design-zone
SUMMARY:DISCOVERY AFTER DARK: DESIGN ZONE
DESCRIPTION:21 and over
ATTACH;FMTTYPE=image/jpeg:https://www.goriverwalk.com/wp-content/uploads/2
 018/12/Design-Zone-Logo-with-Images-2.png
CATEGORIES:Community
LOCATION:Museum of Discovery and Science\, 401 SW 2nd St\, Fort Lauderdale\
 , Florida\, 33312\, United States
GEO:26.120892;-80.147942
X-APPLE-STRUCTURED-LOCATION;VALUE=URI;X-ADDRESS=401 SW 2nd St\, Fort Lauder
 dale\, Florida\, 33312\, United States;X-APPLE-RADIUS=100;X-TITLE=Museum o
 f Discovery and Science:geo:26.120892,-80.147942
END:VEVENT
BEGIN:VTIMEZONE
TZID:America/New_York
X-LIC-LOCATION:America/New_York
BEGIN:STANDARD
DTSTART:20181104T010000
TZOFFSETFROM:-0400
TZOFFSETTO:-0500
TZNAME:EST
END:STANDARD
END:VTIMEZONE
END:VCALENDAR