BEGIN:VCALENDAR
VERSION:2.0
PRODID:-//wp-events-plugin.com//7.2.3.1//EN
TZID:America/New_York
X-WR-TIMEZONE:America/New_York
BEGIN:VEVENT
UID:14860@goriverwalk.com
DTSTART;TZID=America/New_York:20221120T180000
DTEND;TZID=America/New_York:20221120T200000
DTSTAMP:20221004T195842Z
URL:https://www.goriverwalk.com/greater-fort-lauderdale-events/dirty-danci
 ng-in-concert
SUMMARY:Dirty Dancing in Concert
DESCRIPTION:Watch the movie with a live band
ATTACH;FMTTYPE=image/jpeg:https://www.goriverwalk.com/wp-content/uploads/2
 022/09/DrityDancing2.jpg
CATEGORIES:Dance
LOCATION:Lillian S. Wells Hall at The Parker\, 707 NE 8th Street\, Fort Lau
 derdale\, Florida\, 33304\, United States
X-APPLE-STRUCTURED-LOCATION;VALUE=URI;X-ADDRESS=707 NE 8th Street\, Fort La
 uderdale\, Florida\, 33304\, United States;X-APPLE-RADIUS=100;X-TITLE=Lill
 ian S. Wells Hall at The Parker:geo:0,0
END:VEVENT
BEGIN:VTIMEZONE
TZID:America/New_York
X-LIC-LOCATION:America/New_York
BEGIN:STANDARD
DTSTART:20221106T010000
TZOFFSETFROM:-0400
TZOFFSETTO:-0500
TZNAME:EST
END:STANDARD
END:VTIMEZONE
END:VCALENDAR