BEGIN:VCALENDAR
VERSION:2.0
PRODID:-//wp-events-plugin.com//7.2.3.1//EN
TZID:America/New_York
X-WR-TIMEZONE:America/New_York
BEGIN:VEVENT
UID:5365@goriverwalk.com
DTSTART;TZID=America/New_York:20181025T183000
DTEND;TZID=America/New_York:20181025T213000
DTSTAMP:20180828T143405Z
URL:https://www.goriverwalk.com/greater-fort-lauderdale-events/dinner-a-co
 nversation-with-former-white-house-chef-john-moeller
SUMMARY:Dinner & a Conversation with Former White House Chef John Moeller
DESCRIPTION:The chef to three U.S. Presidents
ATTACH;FMTTYPE=image/jpeg:https://www.goriverwalk.com/wp-content/uploads/2
 018/07/TBF-Whitehouse-Chef-Event-Banner2.jpg
CATEGORIES:Fundraiser
LOCATION:Hugh's Catering\, 4351 NE 12 Terrace\, Oakland Park \, FL \, Unite
 d States
GEO:26.180799;-80.131256
X-APPLE-STRUCTURED-LOCATION;VALUE=URI;X-ADDRESS=4351 NE 12 Terrace\, Oaklan
 d Park \, FL \, United States;X-APPLE-RADIUS=100;X-TITLE=Hugh's Catering:g
 eo:26.180799,-80.131256
END:VEVENT
BEGIN:VTIMEZONE
TZID:America/New_York
X-LIC-LOCATION:America/New_York
BEGIN:DAYLIGHT
DTSTART:20180311T030000
TZOFFSETFROM:-0500
TZOFFSETTO:-0400
TZNAME:EDT
END:DAYLIGHT
END:VTIMEZONE
END:VCALENDAR