BEGIN:VCALENDAR
VERSION:2.0
PRODID:-//wp-events-plugin.com//7.2.3.1//EN
TZID:America/New_York
X-WR-TIMEZONE:America/New_York
BEGIN:VEVENT
UID:8274@goriverwalk.com
DTSTART;TZID=America/New_York:20191210T000000
DTEND;TZID=America/New_York:20191210T000000
DTSTAMP:20191003T205801Z
URL:https://www.goriverwalk.com/greater-fort-lauderdale-events/dine-for-a-
 cause
SUMMARY:Dine for a Cause
DESCRIPTION:With Miami Dolphins Wide Receiver Albert Wilson
ATTACH;FMTTYPE=image/jpeg:https://www.goriverwalk.com/wp-content/uploads/2
 017/11/Default-calendar.jpg
CATEGORIES:Community
LOCATION:Wild Thyme Oceanside Eatery\, 601 North Fort Lauderdale Beach Boul
 evard\, Fort Lauderdale\, FL\, 33301\, United States
GEO:26.1315915;-80.10385939999998
X-APPLE-STRUCTURED-LOCATION;VALUE=URI;X-ADDRESS=601 North Fort Lauderdale B
 each Boulevard\, Fort Lauderdale\, FL\, 33301\, United States;X-APPLE-RADI
 US=100;X-TITLE=Wild Thyme Oceanside Eatery:geo:26.1315915,-80.103859399999
 98
END:VEVENT
BEGIN:VTIMEZONE
TZID:America/New_York
X-LIC-LOCATION:America/New_York
BEGIN:STANDARD
DTSTART:20191103T010000
TZOFFSETFROM:-0400
TZOFFSETTO:-0500
TZNAME:EST
END:STANDARD
END:VTIMEZONE
END:VCALENDAR