BEGIN:VCALENDAR
VERSION:2.0
PRODID:-//wp-events-plugin.com//7.2.3.1//EN
TZID:America/New_York
X-WR-TIMEZONE:America/New_York
BEGIN:VEVENT
UID:7136@goriverwalk.com
DTSTART;TZID=America/New_York:20191119T110000
DTEND;TZID=America/New_York:20191121T151500
DTSTAMP:20190412T203046Z
URL:https://www.goriverwalk.com/greater-fort-lauderdale-events/digimarcon-
 world-2019-digital-marketing-conference
SUMMARY:DigiMarCon World 2019 - Digital Marketing Conference
DESCRIPTION:Available live stream or on demand
ATTACH;FMTTYPE=image/jpeg:https://www.goriverwalk.com/wp-content/uploads/2
 019/03/digimarcon-world-2019-2.png
CATEGORIES:Business,Community,Education
END:VEVENT
BEGIN:VTIMEZONE
TZID:America/New_York
X-LIC-LOCATION:America/New_York
BEGIN:STANDARD
DTSTART:20191103T010000
TZOFFSETFROM:-0400
TZOFFSETTO:-0500
TZNAME:EST
END:STANDARD
END:VTIMEZONE
END:VCALENDAR