BEGIN:VCALENDAR
VERSION:2.0
PRODID:-//wp-events-plugin.com//7.2.3.1//EN
TZID:America/New_York
X-WR-TIMEZONE:America/New_York
BEGIN:VEVENT
UID:16450@goriverwalk.com
DTSTART;TZID=America/New_York:20230707T093000
DTEND;TZID=America/New_York:20230708T153000
DTSTAMP:20230216T144837Z
URL:https://www.goriverwalk.com/greater-fort-lauderdale-events/digimarcon-
 america-2023-digital-marketing-media-and-advertising-conference
SUMMARY:DigiMarCon America 2023 - Digital Marketing\, Media and Advertising
  Conference
DESCRIPTION:A Virtual Conference
ATTACH;FMTTYPE=image/jpeg:https://www.goriverwalk.com/wp-content/uploads/2
 023/02/digimarcon-america.png
CATEGORIES:Business
END:VEVENT
BEGIN:VTIMEZONE
TZID:America/New_York
X-LIC-LOCATION:America/New_York
BEGIN:DAYLIGHT
DTSTART:20230312T030000
TZOFFSETFROM:-0500
TZOFFSETTO:-0400
TZNAME:EDT
END:DAYLIGHT
END:VTIMEZONE
END:VCALENDAR