BEGIN:VCALENDAR
VERSION:2.0
PRODID:-//wp-events-plugin.com//7.2.3.1//EN
TZID:America/New_York
X-WR-TIMEZONE:America/New_York
BEGIN:VEVENT
UID:11444@goriverwalk.com
DTSTART;TZID=America/New_York:20210717T080000
DTEND;TZID=America/New_York:20211218T140000
DTSTAMP:20210702T182336Z
URL:https://www.goriverwalk.com/greater-fort-lauderdale-events/demurs-farm
 ers-table-farmers-market
SUMMARY:DeMurs Farmers Table (Farmers Market)
DESCRIPTION:Specialty food\, arts & crafts and more
ATTACH;FMTTYPE=image/jpeg:https://www.goriverwalk.com/wp-content/uploads/2
 021/07/DFT_RW_SM.jpg
CATEGORIES:Community,Food
LOCATION:St. Ambrose Episcopal Church\, 2250 SW 31st Avenue\, Fort Lauderda
 le\, FL\, 33312\, United States
X-APPLE-STRUCTURED-LOCATION;VALUE=URI;X-ADDRESS=2250 SW 31st Avenue\, Fort 
 Lauderdale\, FL\, 33312\, United States;X-APPLE-RADIUS=100;X-TITLE=St. Amb
 rose Episcopal Church:geo:0,0
END:VEVENT
BEGIN:VTIMEZONE
TZID:America/New_York
X-LIC-LOCATION:America/New_York
BEGIN:DAYLIGHT
DTSTART:20210314T030000
TZOFFSETFROM:-0500
TZOFFSETTO:-0400
TZNAME:EDT
END:DAYLIGHT
BEGIN:STANDARD
DTSTART:20211107T010000
TZOFFSETFROM:-0400
TZOFFSETTO:-0500
TZNAME:EST
END:STANDARD
END:VTIMEZONE
END:VCALENDAR