BEGIN:VCALENDAR
VERSION:2.0
PRODID:-//wp-events-plugin.com//7.2.3.1//EN
TZID:America/New_York
X-WR-TIMEZONE:America/New_York
BEGIN:VEVENT
UID:12960@goriverwalk.com
DTSTART;TZID=America/New_York:20211204T180000
DTEND;TZID=America/New_York:20211205T210000
DTSTAMP:20211124T174647Z
URL:https://www.goriverwalk.com/greater-fort-lauderdale-events/david-carso
 n-exhibition
SUMMARY:David Carson Exhibition
DESCRIPTION:Dubbed “one of America’s most important artists”
ATTACH;FMTTYPE=image/jpeg:https://www.goriverwalk.com/wp-content/uploads/2
 017/11/Default-calendar.jpg
CATEGORIES:Art
LOCATION:MAD Arts\, 481 Federal Highway\, Dania Beach\, FL\, 33004\, United
  States
X-APPLE-STRUCTURED-LOCATION;VALUE=URI;X-ADDRESS=481 Federal Highway\, Dania
  Beach\, FL\, 33004\, United States;X-APPLE-RADIUS=100;X-TITLE=MAD Arts:ge
 o:0,0
END:VEVENT
BEGIN:VTIMEZONE
TZID:America/New_York
X-LIC-LOCATION:America/New_York
BEGIN:STANDARD
DTSTART:20211107T010000
TZOFFSETFROM:-0400
TZOFFSETTO:-0500
TZNAME:EST
END:STANDARD
END:VTIMEZONE
END:VCALENDAR