BEGIN:VCALENDAR
VERSION:2.0
PRODID:-//wp-events-plugin.com//7.2.3.1//EN
TZID:America/New_York
X-WR-TIMEZONE:America/New_York
BEGIN:VEVENT
UID:7146@goriverwalk.com
DTSTART;TZID=America/New_York:20190330T110000
DTEND;TZID=America/New_York:20190331T200000
DTSTAMP:20190326T191817Z
URL:https://www.goriverwalk.com/greater-fort-lauderdale-events/dania-beach
 -arts-seafood-celebration
SUMMARY:Dania Beach Arts & Seafood Celebration
DESCRIPTION:Live music\, great food and more
ATTACH;FMTTYPE=image/jpeg:https://www.goriverwalk.com/wp-content/uploads/2
 019/03/dania-beach-arts.jpg
CATEGORIES:Community,Festival,Food
LOCATION:Frost Park\, 300 NE 2 Street\, Dania Beach\, FL\, 33004\, United S
 tates
GEO:26.055074;-80.13964049999998
X-APPLE-STRUCTURED-LOCATION;VALUE=URI;X-ADDRESS=300 NE 2 Street\, Dania Bea
 ch\, FL\, 33004\, United States;X-APPLE-RADIUS=100;X-TITLE=Frost Park:geo:
 26.055074,-80.13964049999998
END:VEVENT
BEGIN:VTIMEZONE
TZID:America/New_York
X-LIC-LOCATION:America/New_York
BEGIN:DAYLIGHT
DTSTART:20190310T030000
TZOFFSETFROM:-0500
TZOFFSETTO:-0400
TZNAME:EDT
END:DAYLIGHT
END:VTIMEZONE
END:VCALENDAR