BEGIN:VCALENDAR
VERSION:2.0
PRODID:-//wp-events-plugin.com//7.2.3.1//EN
TZID:America/New_York
X-WR-TIMEZONE:America/New_York
BEGIN:VEVENT
UID:4038@goriverwalk.com
DTSTART;TZID=America/New_York:20180310T150000
DTEND;TZID=America/New_York:20180310T170000
DTSTAMP:20180111T195524Z
URL:https://www.goriverwalk.com/greater-fort-lauderdale-events/dancing-for
 -god
SUMMARY:Dancing for God
DESCRIPTION:The program features 5 beautiful jogini ritual dances in full c
 olorful Indian costume.
ATTACH;FMTTYPE=image/jpeg:https://www.goriverwalk.com/wp-content/uploads/2
 018/01/apai.png
CATEGORIES:Cultural,Dance
LOCATION:Broward County Main Library\, 100 S. Andrews Avenue\, Fort Lauderd
 ale\, Florida\, 33301\, United States
GEO:26.120946;-80.14289789999998
X-APPLE-STRUCTURED-LOCATION;VALUE=URI;X-ADDRESS=100 S. Andrews Avenue\, For
 t Lauderdale\, Florida\, 33301\, United States;X-APPLE-RADIUS=100;X-TITLE=
 Broward County Main Library:geo:26.120946,-80.14289789999998
END:VEVENT
BEGIN:VTIMEZONE
TZID:America/New_York
X-LIC-LOCATION:America/New_York
BEGIN:STANDARD
DTSTART:20171105T010000
TZOFFSETFROM:-0400
TZOFFSETTO:-0500
TZNAME:EST
END:STANDARD
END:VTIMEZONE
END:VCALENDAR