BEGIN:VCALENDAR
VERSION:2.0
PRODID:-//wp-events-plugin.com//7.2.3.1//EN
TZID:America/New_York
X-WR-TIMEZONE:America/New_York
BEGIN:VEVENT
UID:6836@goriverwalk.com
DTSTART;TZID=America/New_York:20190404T190000
DTEND;TZID=America/New_York:20190404T220000
DTSTAMP:20190312T192549Z
URL:https://www.goriverwalk.com/greater-fort-lauderdale-events/cruising-fo
 r-a-cause-2
SUMMARY:Cruising for a Cause
DESCRIPTION:A unique fundraising event
ATTACH;FMTTYPE=image/jpeg:https://www.goriverwalk.com/wp-content/uploads/2
 019/01/cruising-4-a-cause.png
CATEGORIES:Fundraiser
LOCATION:Bay Colony Estate\, 280 N. Compass Drive\, Fort Lauderdale\, FL\, 
 33308\, United States
GEO:26.2049606;-80.10084870000003
X-APPLE-STRUCTURED-LOCATION;VALUE=URI;X-ADDRESS=280 N. Compass Drive\, Fort
  Lauderdale\, FL\, 33308\, United States;X-APPLE-RADIUS=100;X-TITLE=Bay Co
 lony Estate:geo:26.2049606,-80.10084870000003
END:VEVENT
BEGIN:VTIMEZONE
TZID:America/New_York
X-LIC-LOCATION:America/New_York
BEGIN:DAYLIGHT
DTSTART:20190310T030000
TZOFFSETFROM:-0500
TZOFFSETTO:-0400
TZNAME:EDT
END:DAYLIGHT
END:VTIMEZONE
END:VCALENDAR