BEGIN:VCALENDAR
VERSION:2.0
PRODID:-//wp-events-plugin.com//7.2.3.1//EN
TZID:America/New_York
X-WR-TIMEZONE:America/New_York
BEGIN:VEVENT
UID:2370@goriverwalk.com
DTSTART;TZID=America/New_York:20160709T170000
DTEND;TZID=America/New_York:20160709T190000
DTSTAMP:20160609T135104Z
URL:https://www.goriverwalk.com/greater-fort-lauderdale-events/cruisin-dow
 n-the-river
SUMMARY:Cruisin' Down the River
DESCRIPTION:A boat Ride down the New River on the historic Carrie B Paddle
 wheel boat.
ATTACH;FMTTYPE=image/jpeg:https://www.goriverwalk.com/wp-content/uploads/2
 016/06/BH_logo_color-2-inch.jpg
CATEGORIES:Cocktail,Food,History
LOCATION:Carrie B\, 440 North New River Drive East\, Fort Lauderdale\, Flor
 ida\, 33301\, United States
GEO:26.1173404;-80.1388493
X-APPLE-STRUCTURED-LOCATION;VALUE=URI;X-ADDRESS=440 North New River Drive E
 ast\, Fort Lauderdale\, Florida\, 33301\, United States;X-APPLE-RADIUS=100
 ;X-TITLE=Carrie B:geo:26.1173404,-80.1388493
END:VEVENT
BEGIN:VTIMEZONE
TZID:America/New_York
X-LIC-LOCATION:America/New_York
BEGIN:DAYLIGHT
DTSTART:20160313T030000
TZOFFSETFROM:-0500
TZOFFSETTO:-0400
TZNAME:EDT
END:DAYLIGHT
END:VTIMEZONE
END:VCALENDAR