BEGIN:VCALENDAR
VERSION:2.0
PRODID:-//wp-events-plugin.com//7.2.3.1//EN
TZID:America/New_York
X-WR-TIMEZONE:America/New_York
BEGIN:VEVENT
UID:19469@goriverwalk.com
DTSTART;TZID=America/New_York:20240810T120000
DTEND;TZID=America/New_York:20240810T133000
DTSTAMP:20240726T200433Z
URL:https://www.goriverwalk.com/greater-fort-lauderdale-events/creativity-
 exploration-home-is-where-the-heart-is
SUMMARY:Creativity Exploration: Home is Where the Heart Is
DESCRIPTION:Create your own mixed media work
ATTACH;FMTTYPE=image/jpeg:https://www.goriverwalk.com/wp-content/uploads/2
 024/07/8.10.CE_.Image_.jpg
CATEGORIES:Art,Cultural
LOCATION:NSU Art Museum\, 1 East Las Olas Boulevard\, Fort Lauderdale\, FL\
 , 33301\, United States
GEO:26.1194368;-80.14276569999998
X-APPLE-STRUCTURED-LOCATION;VALUE=URI;X-ADDRESS=1 East Las Olas Boulevard\,
  Fort Lauderdale\, FL\, 33301\, United States;X-APPLE-RADIUS=100;X-TITLE=N
 SU Art Museum:geo:26.1194368,-80.14276569999998
END:VEVENT
BEGIN:VTIMEZONE
TZID:America/New_York
X-LIC-LOCATION:America/New_York
BEGIN:DAYLIGHT
DTSTART:20240310T030000
TZOFFSETFROM:-0500
TZOFFSETTO:-0400
TZNAME:EDT
END:DAYLIGHT
END:VTIMEZONE
END:VCALENDAR