BEGIN:VCALENDAR
VERSION:2.0
PRODID:-//wp-events-plugin.com//7.2.3.1//EN
TZID:America/New_York
X-WR-TIMEZONE:America/New_York
BEGIN:VEVENT
UID:17190@goriverwalk.com
DTSTART;TZID=America/New_York:20231021T100000
DTEND;TZID=America/New_York:20231021T140000
DTSTAMP:20230830T200136Z
URL:https://www.goriverwalk.com/greater-fort-lauderdale-events/craft-fair
SUMMARY:Craft Fair
DESCRIPTION:Sell or browse handmade crafts 
ATTACH;FMTTYPE=image/jpeg:https://www.goriverwalk.com/wp-content/uploads/2
 023/07/Historic-Stranahan-House-1.jpg
CATEGORIES:Art
LOCATION:Historic Stranahan House Museum\, 335 SE 6th Avenue\, Fort Lauderd
 ale\, FL\, 33301\, United States
GEO:26.1184457;-80.13751560000003
X-APPLE-STRUCTURED-LOCATION;VALUE=URI;X-ADDRESS=335 SE 6th Avenue\, Fort La
 uderdale\, FL\, 33301\, United States;X-APPLE-RADIUS=100;X-TITLE=Historic 
 Stranahan House Museum:geo:26.1184457,-80.13751560000003
END:VEVENT
BEGIN:VTIMEZONE
TZID:America/New_York
X-LIC-LOCATION:America/New_York
BEGIN:DAYLIGHT
DTSTART:20230312T030000
TZOFFSETFROM:-0500
TZOFFSETTO:-0400
TZNAME:EDT
END:DAYLIGHT
END:VTIMEZONE
END:VCALENDAR