BEGIN:VCALENDAR
VERSION:2.0
PRODID:-//wp-events-plugin.com//7.2.3.1//EN
TZID:America/New_York
X-WR-TIMEZONE:America/New_York
BEGIN:VEVENT
UID:6994@goriverwalk.com
DTSTART;TZID=America/New_York:20190302T160000
DTEND;TZID=America/New_York:20190302T200000
DTSTAMP:20190225T190240Z
URL:https://www.goriverwalk.com/greater-fort-lauderdale-events/craft-beer-
 and-wine-festival-car-show
SUMMARY:Craft Beer and Wine Festival + Car Show
DESCRIPTION:Featuring Adam and the Blues Risers
ATTACH;FMTTYPE=image/jpeg:https://www.goriverwalk.com/wp-content/uploads/2
 019/02/blues-risers.jpg
CATEGORIES:Community,Music
LOCATION:13th Street Corridor\, 701 NE 13th Street\, Fort Lauderdale \, FL\
 , 33304\, United States
GEO:26.1426588;-80.13650310000003
X-APPLE-STRUCTURED-LOCATION;VALUE=URI;X-ADDRESS=701 NE 13th Street\, Fort L
 auderdale \, FL\, 33304\, United States;X-APPLE-RADIUS=100;X-TITLE=13th St
 reet Corridor:geo:26.1426588,-80.13650310000003
END:VEVENT
BEGIN:VTIMEZONE
TZID:America/New_York
X-LIC-LOCATION:America/New_York
BEGIN:STANDARD
DTSTART:20181104T010000
TZOFFSETFROM:-0400
TZOFFSETTO:-0500
TZNAME:EST
END:STANDARD
END:VTIMEZONE
END:VCALENDAR