BEGIN:VCALENDAR
VERSION:2.0
PRODID:-//wp-events-plugin.com//7.2.3.1//EN
TZID:America/New_York
X-WR-TIMEZONE:America/New_York
BEGIN:VEVENT
UID:2287@goriverwalk.com
DTSTART;TZID=America/New_York:20160422T180000
DTEND;TZID=America/New_York:20160422T200000
DTSTAMP:20160411T123808Z
URL:https://www.goriverwalk.com/greater-fort-lauderdale-events/coral-sprin
 gs-museum-of-art-presents-an-evening-with-jota-leal-angie-jordan
SUMMARY:Coral Springs Museum of Art Presents an Evening with Jota Leal & An
 gie Jordan
DESCRIPTION:Join the Coral Springs Museum of Art as they welcome famous car
 icature artist Jota Leal and live digital caricature artist Angie Jordan..
 .
ATTACH;FMTTYPE=image/jpeg:https://www.goriverwalk.com/wp-content/uploads/2
 016/04/jota-dali.jpg
CATEGORIES:Art,Hobby
LOCATION:Coral Springs Museum of Art\, 2855 Coral Springs Drive\, Coral Spr
 ings\, FL\, 33065\, United States
GEO:26.2664114;-80.26494689999998
X-APPLE-STRUCTURED-LOCATION;VALUE=URI;X-ADDRESS=2855 Coral Springs Drive\, 
 Coral Springs\, FL\, 33065\, United States;X-APPLE-RADIUS=100;X-TITLE=Cora
 l Springs Museum of Art:geo:26.2664114,-80.26494689999998
END:VEVENT
BEGIN:VTIMEZONE
TZID:America/New_York
X-LIC-LOCATION:America/New_York
BEGIN:DAYLIGHT
DTSTART:20160313T030000
TZOFFSETFROM:-0500
TZOFFSETTO:-0400
TZNAME:EDT
END:DAYLIGHT
END:VTIMEZONE
END:VCALENDAR