BEGIN:VCALENDAR
VERSION:2.0
PRODID:-//wp-events-plugin.com//7.2.3.1//EN
TZID:America/New_York
X-WR-TIMEZONE:America/New_York
BEGIN:VEVENT
UID:10530@goriverwalk.com
DTSTART;TZID=America/New_York:20210112T140000
DTEND;TZID=America/New_York:20210112T140000
DTSTAMP:20210106T150717Z
URL:https://www.goriverwalk.com/greater-fort-lauderdale-events/cooking-wit
 h-the-galleria-10
SUMMARY:Cooking with The Galleria
DESCRIPTION:Preparing the Ideal Steak
ATTACH;FMTTYPE=image/jpeg:https://www.goriverwalk.com/wp-content/uploads/2
 020/09/galleria-elvis-plate.jpg
CATEGORIES:Education,Food,Hobby
END:VEVENT
BEGIN:VTIMEZONE
TZID:America/New_York
X-LIC-LOCATION:America/New_York
BEGIN:STANDARD
DTSTART:20201101T010000
TZOFFSETFROM:-0400
TZOFFSETTO:-0500
TZNAME:EST
END:STANDARD
END:VTIMEZONE
END:VCALENDAR