BEGIN:VCALENDAR
VERSION:2.0
PRODID:-//wp-events-plugin.com//7.2.3.1//EN
TZID:America/New_York
X-WR-TIMEZONE:America/New_York
BEGIN:VEVENT
UID:4048@goriverwalk.com
DTSTART;TZID=America/New_York:20180613T150000
DTEND;TZID=America/New_York:20180613T190000
DTSTAMP:20180112T215411Z
URL:https://www.goriverwalk.com/greater-fort-lauderdale-events/cooking-wit
 h-kid
SUMMARY:Cooking with KID
DESCRIPTION:Enjoy preparing a meal in a professional kitchen with a child f
 rom KID.
ATTACH;FMTTYPE=image/jpeg:https://www.goriverwalk.com/wp-content/uploads/2
 017/11/Default-calendar.jpg
CATEGORIES:Fundraiser
LOCATION:Hugh's Culinary\, 4351 NE 12th Terrace\, FORT LAUDERDALE\, FL\, 33
 334\, United States
GEO:26.180809;-80.131271
X-APPLE-STRUCTURED-LOCATION;VALUE=URI;X-ADDRESS=4351 NE 12th Terrace\, FORT
  LAUDERDALE\, FL\, 33334\, United States;X-APPLE-RADIUS=100;X-TITLE=Hugh's
  Culinary:geo:26.180809,-80.131271
END:VEVENT
BEGIN:VTIMEZONE
TZID:America/New_York
X-LIC-LOCATION:America/New_York
BEGIN:DAYLIGHT
DTSTART:20180311T030000
TZOFFSETFROM:-0500
TZOFFSETTO:-0400
TZNAME:EDT
END:DAYLIGHT
END:VTIMEZONE
END:VCALENDAR