BEGIN:VCALENDAR
VERSION:2.0
PRODID:-//wp-events-plugin.com//7.2.3.1//EN
TZID:America/New_York
X-WR-TIMEZONE:America/New_York
BEGIN:VEVENT
UID:1515@goriverwalk.com
DTSTART;TZID=America/New_York:20160227T180000
DTEND;TZID=America/New_York:20160227T230000
DTSTAMP:20160125T202807Z
URL:https://www.goriverwalk.com/greater-fort-lauderdale-events/cocktails-f
 or-humanity
SUMMARY:Cocktails for Humanity
DESCRIPTION:Come out to the monthly Artwalk in FAT Village and grab a drink
 ...
ATTACH;FMTTYPE=image/jpeg:https://www.goriverwalk.com/wp-content/uploads/2
 015/12/Default-calendar-1.jpg
CATEGORIES:Food
LOCATION:General Provisions\, 525 NW 1st Avenue\, Fort Lauderdale\, Florida
 \, 33301\, United States
GEO:26.128824;-80.144974
X-APPLE-STRUCTURED-LOCATION;VALUE=URI;X-ADDRESS=525 NW 1st Avenue\, Fort La
 uderdale\, Florida\, 33301\, United States;X-APPLE-RADIUS=100;X-TITLE=Gene
 ral Provisions:geo:26.128824,-80.144974
END:VEVENT
BEGIN:VTIMEZONE
TZID:America/New_York
X-LIC-LOCATION:America/New_York
BEGIN:STANDARD
DTSTART:20151101T010000
TZOFFSETFROM:-0400
TZOFFSETTO:-0500
TZNAME:EST
END:STANDARD
END:VTIMEZONE
END:VCALENDAR