BEGIN:VCALENDAR
VERSION:2.0
PRODID:-//wp-events-plugin.com//7.2.3.1//EN
TZID:America/New_York
X-WR-TIMEZONE:America/New_York
BEGIN:VEVENT
UID:2533@goriverwalk.com
DTSTART;TZID=America/New_York:20160914T183000
DTEND;TZID=America/New_York:20160914T203000
DTSTAMP:20160906T161116Z
URL:https://www.goriverwalk.com/greater-fort-lauderdale-events/cocktails-c
 ool-jams
SUMMARY:Cocktails & Cool Jams
DESCRIPTION:Live music and tasty light bites.
ATTACH;FMTTYPE=image/jpeg:https://www.goriverwalk.com/wp-content/uploads/2
 015/12/Default-calendar.jpg
CATEGORIES:Cocktail,Fundraiser
LOCATION:Apothecary\, 330 SW 2nd Street\, Fort Lauderdale \, Florida\, 3330
 1\, United States
GEO:26.1164826;-80.14552270000001
X-APPLE-STRUCTURED-LOCATION;VALUE=URI;X-ADDRESS=330 SW 2nd Street\, Fort La
 uderdale \, Florida\, 33301\, United States;X-APPLE-RADIUS=100;X-TITLE=Apo
 thecary:geo:26.1164826,-80.14552270000001
END:VEVENT
BEGIN:VTIMEZONE
TZID:America/New_York
X-LIC-LOCATION:America/New_York
BEGIN:DAYLIGHT
DTSTART:20160313T030000
TZOFFSETFROM:-0500
TZOFFSETTO:-0400
TZNAME:EDT
END:DAYLIGHT
END:VTIMEZONE
END:VCALENDAR