BEGIN:VCALENDAR
VERSION:2.0
PRODID:-//wp-events-plugin.com//7.2.3.1//EN
TZID:America/New_York
X-WR-TIMEZONE:America/New_York
BEGIN:VEVENT
UID:20458@goriverwalk.com
DTSTART;TZID=America/New_York:20250514T180000
DTEND;TZID=America/New_York:20250514T200000
DTSTAMP:20250311T224850Z
URL:https://www.goriverwalk.com/greater-fort-lauderdale-events/cocktails-a
 nd-cheers
SUMMARY:Cocktails and Cheers
DESCRIPTION:Honoring the 2025 Champion for Children\, Cindy Arenberg Seltze
 r\n
ATTACH;FMTTYPE=image/jpeg:https://www.goriverwalk.com/wp-content/uploads/2
 025/02/cocktails-and-cheers.jpg
CATEGORIES:Children,Cocktail,Community,Food,Fundraiser
LOCATION:Seminole Hard Rock Hotel and Casino\, 1 Seminole Way\, Hollywood\,
  FL\, 33314\, United States
GEO:26.0525928;-80.21242110000003
X-APPLE-STRUCTURED-LOCATION;VALUE=URI;X-ADDRESS=1 Seminole Way\, Hollywood\
 , FL\, 33314\, United States;X-APPLE-RADIUS=100;X-TITLE=Seminole Hard Rock
  Hotel and Casino:geo:26.0525928,-80.21242110000003
END:VEVENT
BEGIN:VTIMEZONE
TZID:America/New_York
X-LIC-LOCATION:America/New_York
BEGIN:DAYLIGHT
DTSTART:20250309T030000
TZOFFSETFROM:-0500
TZOFFSETTO:-0400
TZNAME:EDT
END:DAYLIGHT
END:VTIMEZONE
END:VCALENDAR