BEGIN:VCALENDAR
VERSION:2.0
PRODID:-//wp-events-plugin.com//7.2.3.1//EN
TZID:America/New_York
X-WR-TIMEZONE:America/New_York
BEGIN:VEVENT
UID:22376@goriverwalk.com
DTSTART;TZID=America/New_York:20260214T130000
DTEND;TZID=America/New_York:20260912T170000
DTSTAMP:20260310T151921Z
URL:https://www.goriverwalk.com/greater-fort-lauderdale-events/clay-open-s
 tudio
SUMMARY:Clay Open Studio
DESCRIPTION:Unleash Your Creativity at Our Clay Open Studio: Every 2nd Satu
 rday!\n\nAre you ready to get your hands dirty and explore the world of cl
 ay? Join us for our Clay Open Studio\, where returning students can dive i
 nto personal projects in a vibrant\, communal setting! This is your chance
  to practice your creativity and bring your artistic visions to life with 
 the support of our experienced staff. During open studio time\, you’ll h
 ave the freedom to work independently\, honing your techniques and experim
 enting with your ideas. Clay is available for purchase in convenient 5 LB 
 increments at just $1/LB\, so you can easily stock up and let your imagina
 tion run wild. Whether you’re perfecting a beloved project or trying som
 ething entirely new\, our open studio provides the perfect space for aspir
 ing clay artists to flourish. Don’t miss out on this opportunity to conn
 ect with fellow creators and make something truly special. Reserve your sp
 ot today and let your creativity soar!\n\nPLEASE NOTE:\n\nThis is not a cl
 ass or a workshop.\nAll participants must have taken 2 or more clay classe
 s before or have proven experience. Find out more about Hand building clas
 ses (6 seats) or Wheel Throwing (4 seats).\nAll glaze\, tools and firing a
 re included.\n\nFor more information click here.
ATTACH;FMTTYPE=image/jpeg:https://www.goriverwalk.com/wp-content/uploads/2
 026/02/600x600.jpg
CATEGORIES:Art,Hobby
LOCATION:Bailey Contemporary Arts Center\, 41 Northeast 1st Street\, Pompan
 o Beach\, FL\, 33060\, United States
X-APPLE-STRUCTURED-LOCATION;VALUE=URI;X-ADDRESS=41 Northeast 1st Street\, P
 ompano Beach\, FL\, 33060\, United States;X-APPLE-RADIUS=100;X-TITLE=Baile
 y Contemporary Arts Center:geo:0,0
END:VEVENT
BEGIN:VTIMEZONE
TZID:America/New_York
X-LIC-LOCATION:America/New_York
BEGIN:STANDARD
DTSTART:20251102T010000
TZOFFSETFROM:-0400
TZOFFSETTO:-0500
TZNAME:EST
END:STANDARD
BEGIN:DAYLIGHT
DTSTART:20260308T030000
TZOFFSETFROM:-0500
TZOFFSETTO:-0400
TZNAME:EDT
END:DAYLIGHT
END:VTIMEZONE
END:VCALENDAR