BEGIN:VCALENDAR
VERSION:2.0
PRODID:-//wp-events-plugin.com//7.2.3.1//EN
TZID:America/New_York
X-WR-TIMEZONE:America/New_York
BEGIN:VEVENT
UID:6249@goriverwalk.com
DTSTART;TZID=America/New_York:20181128T173000
DTEND;TZID=America/New_York:20181128T220000
DTSTAMP:20181115T190207Z
URL:https://www.goriverwalk.com/greater-fort-lauderdale-events/christmas-f
 amily-night-at-first-presbyterian
SUMMARY:Christmas Family Night at First Presbyterian
DESCRIPTION:Story of the Nativity
ATTACH;FMTTYPE=image/jpeg:https://www.goriverwalk.com/wp-content/uploads/2
 018/11/Childrens-Family-Night-2013.jpg
CATEGORIES:Community
LOCATION:First Presbyterian Church of Fort Lauderdale\, 401 SE 15th Ave\, F
 ort Lauderdale\, Florida\, 33301\, United States
GEO:26.118063;-80.12893919999999
X-APPLE-STRUCTURED-LOCATION;VALUE=URI;X-ADDRESS=401 SE 15th Ave\, Fort Laud
 erdale\, Florida\, 33301\, United States;X-APPLE-RADIUS=100;X-TITLE=First 
 Presbyterian Church of Fort Lauderdale:geo:26.118063,-80.12893919999999
END:VEVENT
BEGIN:VTIMEZONE
TZID:America/New_York
X-LIC-LOCATION:America/New_York
BEGIN:STANDARD
DTSTART:20181104T010000
TZOFFSETFROM:-0400
TZOFFSETTO:-0500
TZNAME:EST
END:STANDARD
END:VTIMEZONE
END:VCALENDAR