BEGIN:VCALENDAR
VERSION:2.0
PRODID:-//wp-events-plugin.com//7.2.3.1//EN
TZID:America/New_York
X-WR-TIMEZONE:America/New_York
BEGIN:VEVENT
UID:22820@goriverwalk.com
DTSTART;TZID=America/New_York:20260425T200000
DTEND;TZID=America/New_York:20260425T200000
DTSTAMP:20260325T164544Z
URL:https://www.goriverwalk.com/greater-fort-lauderdale-events/chris-tucke
 r-4
SUMMARY:Chris Tucker
DESCRIPTION:\n\n\n\nChris Tucker is an internationally recognized\, award-w
 inning actor\, producer\, and comedian best known for his unforgettable ro
 le as Detective James Carter in the blockbuster “Rush Hour” film franc
 hise. With a career spanning over three decades\, Tucker has proven himsel
 f as both a comedic powerhouse and a compelling dramatic actor.\n\nHe made
  his big-screen debut in the cult classic “Friday” (1995)\, opposite I
 ce Cube\, and went on to star in hits including “Money Talks\,” “Luc
  Besson’s “The Fifth Element\,” and Quentin Tarantino’s “Jackie 
 Brown.”\n\nTucker delivered one of his most powerful dramatic performanc
 es in the Hughes brothers’ “Dead Presidents\,” portraying a troubled
  Vietnam veteran — a role that showcased his ability to bring emotional 
 depth and grit to the screen. He further demonstrated his dramatic range i
 n David O. Russell’s Oscar-winning “Silver Linings Playbook” and Ang
  Lee’s “Billy Lynn’s Long Halftime Walk.” Most recently\, he appea
 red opposite Ben Affleck\, Matt Damon\, and Viola Davis in the critically 
 acclaimed Amazon Studios film AIR.\n\nTucker first broke through as a fan 
 favorite on HBO’s Def Comedy “Jam\,” and continues to draw sold-out 
 crowds worldwide. His Netflix stand-up special Chris Tucker Live marked a 
 major return to his comedic roots\, and in 2023 he launched “The Legend 
 Tour\,” his most expansive stand-up tour in over a decade\, earning rave
  reviews across North America and beyond.\n\nOutside of entertainment\, Tu
 cker is a devoted humanitarian\, philanthropist\, and global traveler. Thr
 ough his nonprofit\, The Chris Tucker Foundation\, he supports youth and e
 ducation initiatives around the world. Whether on stage or screen\, Chris 
 Tucker remains one of the most distinctive and beloved talents in entertai
 nment.\n\n\n\n\n\n\nPhone-Free Event\nMobile devices must be held by guest
 s in locked Yondr cases during the performance. Yondr cases are lockable\,
  flexible\, neoprene pouches that assure a phone-free event experience. Gu
 ests must switch their phones to vibrate to avoid disruptions from incomin
 g notifications. Each guest is responsible for maintaining possession of t
 heir mobile device inside the venue. The pouches will be unlocked at the e
 nd of the show. If needed\, guests will be able to use their phones in des
 ignated areas\n\n\nFor more information click here.
ATTACH;FMTTYPE=image/jpeg:https://www.goriverwalk.com/wp-content/uploads/2
 026/03/tucker.jpg
CATEGORIES:Comedy
LOCATION:Seminole Hard Rock Hotel and Casino\, 1 Seminole Way\, Hollywood\,
  FL\, 33314\, United States
GEO:26.0525928;-80.21242110000003
X-APPLE-STRUCTURED-LOCATION;VALUE=URI;X-ADDRESS=1 Seminole Way\, Hollywood\
 , FL\, 33314\, United States;X-APPLE-RADIUS=100;X-TITLE=Seminole Hard Rock
  Hotel and Casino:geo:26.0525928,-80.21242110000003
END:VEVENT
BEGIN:VTIMEZONE
TZID:America/New_York
X-LIC-LOCATION:America/New_York
BEGIN:DAYLIGHT
DTSTART:20260308T030000
TZOFFSETFROM:-0500
TZOFFSETTO:-0400
TZNAME:EDT
END:DAYLIGHT
END:VTIMEZONE
END:VCALENDAR