BEGIN:VCALENDAR
VERSION:2.0
PRODID:-//wp-events-plugin.com//7.2.3.1//EN
TZID:America/New_York
X-WR-TIMEZONE:America/New_York
BEGIN:VEVENT
UID:8429@goriverwalk.com
DTSTART;TZID=America/New_York:20191105T170000
DTEND;TZID=America/New_York:20191105T190000
DTSTAMP:20191021T184434Z
URL:https://www.goriverwalk.com/greater-fort-lauderdale-events/childrens-h
 arbor-hosts-safe-harbor-society-mixer
SUMMARY:Children’s Harbor Hosts Safe Harbor Society Mixer
DESCRIPTION:Learn more about the organization
ATTACH;FMTTYPE=image/jpeg:https://www.goriverwalk.com/wp-content/uploads/2
 019/10/YOLO-flyer-Full-size-page-001.png
CATEGORIES:Business,Cocktail,Fundraiser
LOCATION:YOLO (O-Lounge)\, 333 East Las Olas Blvd. \, Fort Lauderdale\, FL\
 , 33301\, United States
X-APPLE-STRUCTURED-LOCATION;VALUE=URI;X-ADDRESS=333 East Las Olas Blvd. \, 
 Fort Lauderdale\, FL\, 33301\, United States;X-APPLE-RADIUS=100;X-TITLE=YO
 LO (O-Lounge):geo:0,0
END:VEVENT
BEGIN:VTIMEZONE
TZID:America/New_York
X-LIC-LOCATION:America/New_York
BEGIN:STANDARD
DTSTART:20191103T010000
TZOFFSETFROM:-0400
TZOFFSETTO:-0500
TZNAME:EST
END:STANDARD
END:VTIMEZONE
END:VCALENDAR