BEGIN:VCALENDAR
VERSION:2.0
PRODID:-//wp-events-plugin.com//7.2.3.1//EN
TZID:America/New_York
X-WR-TIMEZONE:America/New_York
BEGIN:VEVENT
UID:1585@goriverwalk.com
DTSTART;TZID=America/New_York:20160313T160000
DTEND;TZID=America/New_York:20160313T173000
DTSTAMP:20160211T150832Z
URL:https://www.goriverwalk.com/greater-fort-lauderdale-events/chelsea-che
 n-organ-strings-concert
SUMMARY:Chelsea Chen\, Organ & Strings Concert
DESCRIPTION:Coral Ridge Presbyterian Church welcomes member Chelsea Chen to
  the Sanctuary stage for the seventh concert in the 2015-2016 Concert Seri
 es.
ATTACH;FMTTYPE=image/jpeg:https://www.goriverwalk.com/wp-content/uploads/2
 016/02/sf-lauderdale-presbyterian-chelsea-chen-pic-a-20141022.jpeg
CATEGORIES:Music
LOCATION:Coral Ridge Presbyterian Church Chapel\, 5555 N. Federal Highway\,
  Fort Lauderdale\, Florida\, 33308\, United States
GEO:26.195730;-80.112846
X-APPLE-STRUCTURED-LOCATION;VALUE=URI;X-ADDRESS=5555 N. Federal Highway\, F
 ort Lauderdale\, Florida\, 33308\, United States;X-APPLE-RADIUS=100;X-TITL
 E=Coral Ridge Presbyterian Church Chapel:geo:26.195730,-80.112846
END:VEVENT
BEGIN:VTIMEZONE
TZID:America/New_York
X-LIC-LOCATION:America/New_York
BEGIN:DAYLIGHT
DTSTART:20160313T030000
TZOFFSETFROM:-0500
TZOFFSETTO:-0400
TZNAME:EDT
END:DAYLIGHT
END:VTIMEZONE
END:VCALENDAR