BEGIN:VCALENDAR
VERSION:2.0
PRODID:-//wp-events-plugin.com//7.2.3.1//EN
TZID:America/New_York
X-WR-TIMEZONE:America/New_York
BEGIN:VEVENT
UID:22876@goriverwalk.com
DTSTART;TZID=America/New_York:20260502T190000
DTEND;TZID=America/New_York:20260502T220000
DTSTAMP:20260422T131901Z
URL:https://www.goriverwalk.com/greater-fort-lauderdale-events/chef-experi
 ence-dinner
SUMMARY:Chef Experience Dinner
DESCRIPTION:Arc Culinary presents “Butter\, Bone\, and Spice” as part o
 f the Chef Experience Dinner series sponsored by Amazon on Saturday\, May 
 2 at 7 p.m. at the state-of-the-art Emeril Lagasse Foundation Innovation K
 itchen. Tickets are $92 for communal seating or $102 for the chef’s coun
 ter and include alcoholic beverages and gratuity. Proceeds from ticket sal
 es support Arc Broward’s mission to strengthen the community by empoweri
 ng adults and children with disabilities to grow\, develop and thrive. The
  Emeril Lagasse Foundation Innovation Kitchen at Arc Culinary is located a
 t 10250 Northwest 53rd Street\, Sunrise. For tickets and information\, vis
 it arcculinary.com/chef-experience-dinners/ or call (954) 299-7515.\n\nFor
  more information click here.
ATTACH;FMTTYPE=image/jpeg:https://www.goriverwalk.com/wp-content/uploads/2
 026/04/Butter-Bone-Spice-May-3.png
CATEGORIES:Food
LOCATION:Emeril Lagasse Foundation Innovation Kitchen\, 10250 Northwest 53r
 d Street\, Sunrise\, FL\, 33351\, United States
X-APPLE-STRUCTURED-LOCATION;VALUE=URI;X-ADDRESS=10250 Northwest 53rd Street
 \, Sunrise\, FL\, 33351\, United States;X-APPLE-RADIUS=100;X-TITLE=Emeril 
 Lagasse Foundation Innovation Kitchen:geo:0,0
END:VEVENT
BEGIN:VTIMEZONE
TZID:America/New_York
X-LIC-LOCATION:America/New_York
BEGIN:DAYLIGHT
DTSTART:20260308T030000
TZOFFSETFROM:-0500
TZOFFSETTO:-0400
TZNAME:EDT
END:DAYLIGHT
END:VTIMEZONE
END:VCALENDAR