BEGIN:VCALENDAR
VERSION:2.0
PRODID:-//wp-events-plugin.com//7.2.3.1//EN
TZID:America/New_York
X-WR-TIMEZONE:America/New_York
BEGIN:VEVENT
UID:5888@goriverwalk.com
DTSTART;TZID=America/New_York:20181019T183000
DTEND;TZID=America/New_York:20181019T220000
DTSTAMP:20180925T203101Z
URL:https://www.goriverwalk.com/greater-fort-lauderdale-events/chairmans-g
 ala
SUMMARY:Chairman's Gala
DESCRIPTION:In honor of past and present Chairs
ATTACH;FMTTYPE=image/jpeg:https://www.goriverwalk.com/wp-content/uploads/2
 018/09/chairmans-gala.jpg
CATEGORIES:Cocktail,Fundraiser
END:VEVENT
BEGIN:VTIMEZONE
TZID:America/New_York
X-LIC-LOCATION:America/New_York
BEGIN:DAYLIGHT
DTSTART:20180311T030000
TZOFFSETFROM:-0500
TZOFFSETTO:-0400
TZNAME:EDT
END:DAYLIGHT
END:VTIMEZONE
END:VCALENDAR