BEGIN:VCALENDAR
VERSION:2.0
PRODID:-//wp-events-plugin.com//7.2.3.1//EN
TZID:America/New_York
X-WR-TIMEZONE:America/New_York
BEGIN:VEVENT
UID:6773@goriverwalk.com
DTSTART;TZID=America/New_York:20190207T173000
DTEND;TZID=America/New_York:20190207T193000
DTSTAMP:20190122T164129Z
URL:https://www.goriverwalk.com/greater-fort-lauderdale-events/ceo-connect
SUMMARY:CEO Connect
DESCRIPTION:Meet one of South Florida's visionary CEO's
ATTACH;FMTTYPE=image/jpeg:https://www.goriverwalk.com/wp-content/uploads/2
 019/01/CEO-Connect.jpg
LOCATION:FORTS Services\, 5275 Johnson Road\, Coconut Creek\, FL\, 33073\, 
 United States
GEO:26.314537;-80.19660390000001
X-APPLE-STRUCTURED-LOCATION;VALUE=URI;X-ADDRESS=5275 Johnson Road\, Coconut
  Creek\, FL\, 33073\, United States;X-APPLE-RADIUS=100;X-TITLE=FORTS Servi
 ces:geo:26.314537,-80.19660390000001
END:VEVENT
BEGIN:VTIMEZONE
TZID:America/New_York
X-LIC-LOCATION:America/New_York
BEGIN:STANDARD
DTSTART:20181104T010000
TZOFFSETFROM:-0400
TZOFFSETTO:-0500
TZNAME:EST
END:STANDARD
END:VTIMEZONE
END:VCALENDAR