BEGIN:VCALENDAR
VERSION:2.0
PRODID:-//wp-events-plugin.com//7.2.3.1//EN
TZID:America/New_York
X-WR-TIMEZONE:America/New_York
BEGIN:VEVENT
UID:4376@goriverwalk.com
DTSTART;TZID=America/New_York:20180318T110000
DTEND;TZID=America/New_York:20180318T150000
DTSTAMP:20180307T192441Z
URL:https://www.goriverwalk.com/greater-fort-lauderdale-events/celebrate-s
 aint-pawtricks-day-with-pets-broward
SUMMARY:Celebrate Saint Pawtrick’s Day with Pets’ Broward
DESCRIPTION:Enjoy an activity-filled day with delicious food\, music\, a do
 ggie fashion show and much more
ATTACH;FMTTYPE=image/jpeg:https://www.goriverwalk.com/wp-content/uploads/2
 017/11/Default-calendar.jpg
CATEGORIES:Community,Fundraiser
LOCATION:Jaco Pastorius Park\, 4000 N Dixie Highway\, Oakland Park \, Flori
 da \, 33304\, United States
GEO:26.1759595;-80.13283760000002
X-APPLE-STRUCTURED-LOCATION;VALUE=URI;X-ADDRESS=4000 N Dixie Highway\, Oakl
 and Park \, Florida \, 33304\, United States;X-APPLE-RADIUS=100;X-TITLE=Ja
 co Pastorius Park:geo:26.1759595,-80.13283760000002
END:VEVENT
BEGIN:VTIMEZONE
TZID:America/New_York
X-LIC-LOCATION:America/New_York
BEGIN:DAYLIGHT
DTSTART:20180311T030000
TZOFFSETFROM:-0500
TZOFFSETTO:-0400
TZNAME:EDT
END:DAYLIGHT
END:VTIMEZONE
END:VCALENDAR