BEGIN:VCALENDAR
VERSION:2.0
PRODID:-//wp-events-plugin.com//7.2.3.1//EN
TZID:America/New_York
X-WR-TIMEZONE:America/New_York
BEGIN:VEVENT
UID:46@goriverwalk.com
DTSTART;TZID=America/New_York:20151122T080000
DTEND;TZID=America/New_York:20151122T100000
DTSTAMP:20151119T213651Z
URL:https://www.goriverwalk.com/greater-fort-lauderdale-events/cdtc-thanks
 -giving-basket-brigade
SUMMARY:CDTC Thanks Giving Basket Brigade
DESCRIPTION:Volunteers will work via an assembly line to create a full than
 ksgiving meal for the Children's Diagnostic and Treatment Center's needies
 t clients.
CATEGORIES:Holiday
LOCATION:Children’s Diagnostic & Treatment Center (CDTC) Parking Garage\,
  1401 S Federal Highway\, Fort Lauderdale\, Florida\, United States
GEO:26.10441;-80.13756699999999
X-APPLE-STRUCTURED-LOCATION;VALUE=URI;X-ADDRESS=1401 S Federal Highway\, Fo
 rt Lauderdale\, Florida\, United States;X-APPLE-RADIUS=100;X-TITLE=Childre
 n’s Diagnostic & Treatment Center (CDTC) Parking Garage:geo:26.10441,-80
 .13756699999999
END:VEVENT
BEGIN:VTIMEZONE
TZID:America/New_York
X-LIC-LOCATION:America/New_York
BEGIN:STANDARD
DTSTART:20151101T010000
TZOFFSETFROM:-0400
TZOFFSETTO:-0500
TZNAME:EST
END:STANDARD
END:VTIMEZONE
END:VCALENDAR