BEGIN:VCALENDAR
VERSION:2.0
PRODID:-//wp-events-plugin.com//7.2.3.1//EN
TZID:America/New_York
X-WR-TIMEZONE:America/New_York
BEGIN:VEVENT
UID:2383@goriverwalk.com
DTSTART;TZID=America/New_York:20160730T100000
DTEND;TZID=America/New_York:20160730T170000
DTSTAMP:20160621T130004Z
URL:https://www.goriverwalk.com/greater-fort-lauderdale-events/caturday-sa
 turday
SUMMARY:Caturday Saturday
DESCRIPTION:A fun-filled day with Food\, Drink\, Coffee\, Vendors &amp\; th
 e official 5th Annual Caturday Saturday!
ATTACH;FMTTYPE=image/jpeg:https://www.goriverwalk.com/wp-content/uploads/2
 016/06/kittenswin.jpg
CATEGORIES:Festival
LOCATION:The Grind Coffee Project\, 599 SW 2nd Ave\, Fort Lauderdale \, Flo
 rida\, United States
GEO:26.114844;-80.14564029999997
X-APPLE-STRUCTURED-LOCATION;VALUE=URI;X-ADDRESS=599 SW 2nd Ave\, Fort Laude
 rdale \, Florida\, United States;X-APPLE-RADIUS=100;X-TITLE=The Grind Coff
 ee Project:geo:26.114844,-80.14564029999997
END:VEVENT
BEGIN:VTIMEZONE
TZID:America/New_York
X-LIC-LOCATION:America/New_York
BEGIN:DAYLIGHT
DTSTART:20160313T030000
TZOFFSETFROM:-0500
TZOFFSETTO:-0400
TZNAME:EDT
END:DAYLIGHT
END:VTIMEZONE
END:VCALENDAR