BEGIN:VCALENDAR
VERSION:2.0
PRODID:-//wp-events-plugin.com//7.2.3.1//EN
TZID:America/New_York
X-WR-TIMEZONE:America/New_York
BEGIN:VEVENT
UID:7042@goriverwalk.com
DTSTART;TZID=America/New_York:20190330T120000
DTEND;TZID=America/New_York:20190330T160000
DTSTAMP:20190306T194653Z
URL:https://www.goriverwalk.com/greater-fort-lauderdale-events/carlos-pepe
 s-40th-anniversary-fiesta
SUMMARY:Carlos & Pepe's 40th Anniversary Fiesta
DESCRIPTION:Benefiting 2-1-1 Broward
ATTACH;FMTTYPE=image/jpeg:https://www.goriverwalk.com/wp-content/uploads/2
 019/03/CP_40thAnniversaryParty.jpg
CATEGORIES:Community,Food,Fundraiser
LOCATION:Carlos &amp\; Pepe's\, 1302 S. E. 17th Street\, Fort Lauderdale\, 
 FL\, 33316\, United States
GEO:26.0997088;-80.1299444
X-APPLE-STRUCTURED-LOCATION;VALUE=URI;X-ADDRESS=1302 S. E. 17th Street\, Fo
 rt Lauderdale\, FL\, 33316\, United States;X-APPLE-RADIUS=100;X-TITLE=Carl
 os & Pepe's:geo:26.0997088,-80.1299444
END:VEVENT
BEGIN:VTIMEZONE
TZID:America/New_York
X-LIC-LOCATION:America/New_York
BEGIN:DAYLIGHT
DTSTART:20190310T030000
TZOFFSETFROM:-0500
TZOFFSETTO:-0400
TZNAME:EDT
END:DAYLIGHT
END:VTIMEZONE
END:VCALENDAR