BEGIN:VCALENDAR
VERSION:2.0
PRODID:-//wp-events-plugin.com//7.2.3.1//EN
TZID:America/New_York
X-WR-TIMEZONE:America/New_York
BEGIN:VEVENT
UID:18205@goriverwalk.com
DTSTART;TZID=America/New_York:20231203T130000
DTEND;TZID=America/New_York:20231203T153000
DTSTAMP:20231120T160516Z
URL:https://www.goriverwalk.com/greater-fort-lauderdale-events/caribbean-a
 rt-workshop
SUMMARY:Caribbean Art Workshop
DESCRIPTION:Immerse yourself in Caribbean art and culture
ATTACH;FMTTYPE=image/jpeg:https://www.goriverwalk.com/wp-content/uploads/2
 023/11/art-workshop.jpg
CATEGORIES:Art,Children,Community,Hobby
LOCATION:Island SPACE Caribbean Museum\, 8000 W. Broward Blvd. #1202\, Plan
 tation\, FL\, 33388\, United States
X-APPLE-STRUCTURED-LOCATION;VALUE=URI;X-ADDRESS=8000 W. Broward Blvd. #1202
 \, Plantation\, FL\, 33388\, United States;X-APPLE-RADIUS=100;X-TITLE=Isla
 nd SPACE Caribbean Museum:geo:0,0
END:VEVENT
BEGIN:VTIMEZONE
TZID:America/New_York
X-LIC-LOCATION:America/New_York
BEGIN:STANDARD
DTSTART:20231105T010000
TZOFFSETFROM:-0400
TZOFFSETTO:-0500
TZNAME:EST
END:STANDARD
END:VTIMEZONE
END:VCALENDAR