BEGIN:VCALENDAR
VERSION:2.0
PRODID:-//wp-events-plugin.com//7.2.3.1//EN
TZID:America/New_York
X-WR-TIMEZONE:America/New_York
BEGIN:VEVENT
UID:10444@goriverwalk.com
DTSTART;TZID=America/New_York:20201209T110000
DTEND;TZID=America/New_York:20201209T123000
DTSTAMP:20201204T155121Z
URL:https://www.goriverwalk.com/greater-fort-lauderdale-events/careersourc
 e-broward-virtual-presentation-employer-spotlight
SUMMARY:CareerSource Broward Virtual Presentation & Employer Spotlight
DESCRIPTION:No cost solutions for your job search
ATTACH;FMTTYPE=image/jpeg:https://www.goriverwalk.com/wp-content/uploads/2
 019/02/broward-library.jpg
CATEGORIES:Business,Community,Education
END:VEVENT
BEGIN:VTIMEZONE
TZID:America/New_York
X-LIC-LOCATION:America/New_York
BEGIN:STANDARD
DTSTART:20201101T010000
TZOFFSETFROM:-0400
TZOFFSETTO:-0500
TZNAME:EST
END:STANDARD
END:VTIMEZONE
END:VCALENDAR