BEGIN:VCALENDAR
VERSION:2.0
PRODID:-//wp-events-plugin.com//7.2.3.1//EN
TZID:America/New_York
X-WR-TIMEZONE:America/New_York
BEGIN:VEVENT
UID:18498@goriverwalk.com
DTSTART;TZID=America/New_York:20240119T183000
DTEND;TZID=America/New_York:20240119T230000
DTSTAMP:20240109T012201Z
URL:https://www.goriverwalk.com/greater-fort-lauderdale-events/candlelight
 -classic-rock-on-strings
SUMMARY:Candlelight: Classic Rock on Strings
DESCRIPTION:A live\, multi-sensory musical experience
ATTACH;FMTTYPE=image/jpeg:https://www.goriverwalk.com/wp-content/uploads/2
 023/12/Candlelight.jpg
CATEGORIES:Art,Music
LOCATION:Savor Cinema\, 503 SE 6th Street\, Fort Lauderdale\, FL\, 33301\, 
 United States
GEO:26.1151682;-80.13830380000002
X-APPLE-STRUCTURED-LOCATION;VALUE=URI;X-ADDRESS=503 SE 6th Street\, Fort La
 uderdale\, FL\, 33301\, United States;X-APPLE-RADIUS=100;X-TITLE=Savor Cin
 ema:geo:26.1151682,-80.13830380000002
END:VEVENT
BEGIN:VTIMEZONE
TZID:America/New_York
X-LIC-LOCATION:America/New_York
BEGIN:STANDARD
DTSTART:20231105T010000
TZOFFSETFROM:-0400
TZOFFSETTO:-0500
TZNAME:EST
END:STANDARD
END:VTIMEZONE
END:VCALENDAR