BEGIN:VCALENDAR
VERSION:2.0
PRODID:-//wp-events-plugin.com//7.2.3.1//EN
TZID:America/New_York
X-WR-TIMEZONE:America/New_York
BEGIN:VEVENT
UID:3041@goriverwalk.com
DTSTART;TZID=America/New_York:20170225T183000
DTEND;TZID=America/New_York:20170225T200000
DTSTAMP:20170127T182427Z
URL:https://www.goriverwalk.com/greater-fort-lauderdale-events/cafecito-wi
 th-the-ladies-by-tony-mendoza
SUMMARY:“Cafecito with The Ladies” by Tony Mendoza
DESCRIPTION:Colorful and vibrant paintings inspired by the Little Havana ne
 ighborhood of Miami.
ATTACH;FMTTYPE=image/jpeg:https://www.goriverwalk.com/wp-content/uploads/2
 015/12/Default-calendar-1.jpg
CATEGORIES:Art
LOCATION:North Beach Village Design\, 600 Breakers Ave.\, Fort Lauderdale\,
  Florida\, 33304\, United States
GEO:26.131399;-80.104599
X-APPLE-STRUCTURED-LOCATION;VALUE=URI;X-ADDRESS=600 Breakers Ave.\, Fort La
 uderdale\, Florida\, 33304\, United States;X-APPLE-RADIUS=100;X-TITLE=Nort
 h Beach Village Design:geo:26.131399,-80.104599
END:VEVENT
BEGIN:VTIMEZONE
TZID:America/New_York
X-LIC-LOCATION:America/New_York
BEGIN:STANDARD
DTSTART:20161106T010000
TZOFFSETFROM:-0400
TZOFFSETTO:-0500
TZNAME:EST
END:STANDARD
END:VTIMEZONE
END:VCALENDAR