BEGIN:VCALENDAR
VERSION:2.0
PRODID:-//wp-events-plugin.com//7.2.3.1//EN
TZID:America/New_York
X-WR-TIMEZONE:America/New_York
BEGIN:VEVENT
UID:6132@goriverwalk.com
DTSTART;TZID=America/New_York:20181031T190000
DTEND;TZID=America/New_York:20181031T210000
DTSTAMP:20181029T151759Z
URL:https://www.goriverwalk.com/greater-fort-lauderdale-events/byob-blackl
 ight-glow-paint-class
SUMMARY:BYOB Blacklight/Glow Paint Class
DESCRIPTION:Creepy Halloween Tree
ATTACH;FMTTYPE=image/jpeg:https://www.goriverwalk.com/wp-content/uploads/2
 018/10/creepy-halloween.jpg
CATEGORIES:Art,Education
LOCATION:Arts & Crafts Social Club\, 902 N. Flagler Avenue\, Fort Lauderdal
 e\, FL\, 33304\, United States
GEO:26.1352772;-80.13967059999999
X-APPLE-STRUCTURED-LOCATION;VALUE=URI;X-ADDRESS=902 N. Flagler Avenue\, For
 t Lauderdale\, FL\, 33304\, United States;X-APPLE-RADIUS=100;X-TITLE=Arts 
 & Crafts Social Club:geo:26.1352772,-80.13967059999999
END:VEVENT
BEGIN:VTIMEZONE
TZID:America/New_York
X-LIC-LOCATION:America/New_York
BEGIN:DAYLIGHT
DTSTART:20180311T030000
TZOFFSETFROM:-0500
TZOFFSETTO:-0400
TZNAME:EDT
END:DAYLIGHT
END:VTIMEZONE
END:VCALENDAR